BEGIN:VCALENDAR
VERSION:2.0
PRODID:-//Thoughtful Life Counseling LLC - ECPv6.15.20//NONSGML v1.0//EN
CALSCALE:GREGORIAN
METHOD:PUBLISH
X-ORIGINAL-URL:https://thoughtfullifecounseling.com
X-WR-CALDESC:Events for Thoughtful Life Counseling LLC
REFRESH-INTERVAL;VALUE=DURATION:PT1H
X-Robots-Tag:noindex
X-PUBLISHED-TTL:PT1H
BEGIN:VTIMEZONE
TZID:America/Los_Angeles
BEGIN:DAYLIGHT
TZOFFSETFROM:-0800
TZOFFSETTO:-0700
TZNAME:PDT
DTSTART:20200308T100000
END:DAYLIGHT
BEGIN:STANDARD
TZOFFSETFROM:-0700
TZOFFSETTO:-0800
TZNAME:PST
DTSTART:20201101T090000
END:STANDARD
BEGIN:DAYLIGHT
TZOFFSETFROM:-0800
TZOFFSETTO:-0700
TZNAME:PDT
DTSTART:20210314T100000
END:DAYLIGHT
BEGIN:STANDARD
TZOFFSETFROM:-0700
TZOFFSETTO:-0800
TZNAME:PST
DTSTART:20211107T090000
END:STANDARD
BEGIN:DAYLIGHT
TZOFFSETFROM:-0800
TZOFFSETTO:-0700
TZNAME:PDT
DTSTART:20220313T100000
END:DAYLIGHT
BEGIN:STANDARD
TZOFFSETFROM:-0700
TZOFFSETTO:-0800
TZNAME:PST
DTSTART:20221106T090000
END:STANDARD
END:VTIMEZONE
BEGIN:VEVENT
DTSTART;TZID=America/Los_Angeles:20211121T140000
DTEND;TZID=America/Los_Angeles:20211121T153000
DTSTAMP:20260423T074036
CREATED:20211116T055029Z
LAST-MODIFIED:20211117T004844Z
UID:606-1637503200-1637508600@thoughtfullifecounseling.com
SUMMARY:'Tis the Season: A Holiday Guide for Managing Anxiety & Depression
DESCRIPTION:The holidays are a magical time of year… except when they aren’t. \nElevated stress\, the pressure of holiday expectations\, and our ongoing dance with COVID frequently manifest as anxiety or depression during a season when we are “supposed” to be happy (which is itself an expectation). After reviewing the ways in which depression and anxiety show up in our lives\, we will outline a practical strategy to manage both during the upcoming holiday season. \nFREE CE for Oregon Residents
URL:https://thoughtfullifecounseling.com/event/nov-2021-free-ce/
ORGANIZER;CN="Thoughtful Life Counseling LLC":MAILTO:thoughtfullifecounseling@gmail.com
END:VEVENT
END:VCALENDAR